Package: wateRmelon Version: 2.16.0 Command: /home/biocbuild/bbs-3.22-bioc/R/bin/R CMD build --keep-empty-dirs --no-resave-data --md5 wateRmelon StartedAt: 2025-11-18 00:14:26 -0500 (Tue, 18 Nov 2025) EndedAt: 2025-11-18 00:15:58 -0500 (Tue, 18 Nov 2025) EllapsedTime: 92.1 seconds RetCode: 0 Status: OK PackageFile: wateRmelon_2.16.0.tar.gz PackageFileSize: 3.334 MiB