Package: waddR Version: 1.24.0 Command: /home/biocbuild/bbs-3.22-bioc/R/bin/R CMD INSTALL waddR StartedAt: 2025-11-20 16:13:06 -0500 (Thu, 20 Nov 2025) EndedAt: 2025-11-20 16:13:57 -0500 (Thu, 20 Nov 2025) EllapsedTime: 50.6 seconds RetCode: 0 Status: OK