Package: vulcan Version: 1.32.0 Command: /home/biocbuild/bbs-3.22-bioc/R/bin/R CMD INSTALL vulcan StartedAt: 2025-11-16 16:04:54 -0500 (Sun, 16 Nov 2025) EndedAt: 2025-11-16 16:06:07 -0500 (Sun, 16 Nov 2025) EllapsedTime: 72.7 seconds RetCode: 0 Status: OK