Package: vulcan Version: 1.32.0 Command: /home/biocbuild/bbs-3.22-bioc/R/bin/R CMD build --keep-empty-dirs --no-resave-data --md5 vulcan StartedAt: 2025-11-16 20:55:34 -0500 (Sun, 16 Nov 2025) EndedAt: 2025-11-16 20:56:57 -0500 (Sun, 16 Nov 2025) EllapsedTime: 83.1 seconds RetCode: 0 Status: OK PackageFile: vulcan_1.32.0.tar.gz PackageFileSize: 391.6 KiB