Package: vtpnet Version: 0.50.0 Command: /home/biocbuild/bbs-3.22-bioc/R/bin/R CMD INSTALL vtpnet StartedAt: 2025-11-25 16:08:13 -0500 (Tue, 25 Nov 2025) EndedAt: 2025-11-25 16:09:02 -0500 (Tue, 25 Nov 2025) EllapsedTime: 49.5 seconds RetCode: 0 Status: OK