Package: vsclust Version: 1.12.0 Command: /home/biocbuild/bbs-3.22-bioc/R/bin/R CMD INSTALL vsclust StartedAt: 2025-10-30 15:48:37 -0400 (Thu, 30 Oct 2025) EndedAt: 2025-10-30 15:49:20 -0400 (Thu, 30 Oct 2025) EllapsedTime: 42.8 seconds RetCode: 0 Status: OK