Package: vsclust Version: 1.12.0 Command: /home/biocbuild/bbs-3.22-bioc/R/bin/R CMD build --keep-empty-dirs --no-resave-data --md5 vsclust StartedAt: 2025-10-30 20:45:14 -0400 (Thu, 30 Oct 2025) EndedAt: 2025-10-30 20:47:46 -0400 (Thu, 30 Oct 2025) EllapsedTime: 152.1 seconds RetCode: 0 Status: OK PackageFile: vsclust_1.12.0.tar.gz PackageFileSize: 3.653 MiB