Package: vbmp Version: 1.78.0 Command: /home/biocbuild/bbs-3.22-bioc/R/bin/R CMD INSTALL vbmp StartedAt: 2025-11-06 15:03:41 -0500 (Thu, 06 Nov 2025) EndedAt: 2025-11-06 15:03:54 -0500 (Thu, 06 Nov 2025) EllapsedTime: 13.8 seconds RetCode: 0 Status: OK