Package: vbmp Version: 1.78.0 Command: /home/biocbuild/bbs-3.22-bioc/R/bin/R CMD build --keep-empty-dirs --no-resave-data --md5 vbmp StartedAt: 2025-11-06 20:41:27 -0500 (Thu, 06 Nov 2025) EndedAt: 2025-11-06 20:41:57 -0500 (Thu, 06 Nov 2025) EllapsedTime: 30.0 seconds RetCode: 0 Status: OK PackageFile: vbmp_1.78.0.tar.gz PackageFileSize: 1.763 MiB