Package: variancePartition Version: 1.39.3 Command: /Library/Frameworks/R.framework/Resources/bin/R CMD INSTALL variancePartition StartedAt: 2025-10-24 15:22:01 -0400 (Fri, 24 Oct 2025) EndedAt: 2025-10-24 15:22:33 -0400 (Fri, 24 Oct 2025) EllapsedTime: 31.8 seconds RetCode: 0 Status: OK