Package: variancePartition Version: 1.39.3 Command: /Library/Frameworks/R.framework/Resources/bin/R CMD build --keep-empty-dirs --no-resave-data variancePartition StartedAt: 2025-10-24 19:10:38 -0400 (Fri, 24 Oct 2025) EndedAt: 2025-10-24 19:22:08 -0400 (Fri, 24 Oct 2025) EllapsedTime: 690.6 seconds RetCode: 0 Status: OK PackageFile: variancePartition_1.39.3.tar.gz PackageFileSize: 4.983 MiB