Package: variancePartition Version: 1.39.3 Command: /Library/Frameworks/R.framework/Resources/bin/R CMD INSTALL variancePartition StartedAt: 2025-10-24 15:09:22 -0400 (Fri, 24 Oct 2025) EndedAt: 2025-10-24 15:09:29 -0400 (Fri, 24 Oct 2025) EllapsedTime: 7.7 seconds RetCode: 0 Status: OK