Package: variancePartition Version: 1.40.0 Command: /Library/Frameworks/R.framework/Resources/bin/R CMD INSTALL variancePartition StartedAt: 2025-11-17 17:11:16 -0500 (Mon, 17 Nov 2025) EndedAt: 2025-11-17 17:11:25 -0500 (Mon, 17 Nov 2025) EllapsedTime: 8.3 seconds RetCode: 0 Status: OK