Package: variancePartition Version: 1.40.0 Command: /Library/Frameworks/R.framework/Resources/bin/R CMD build --keep-empty-dirs --no-resave-data variancePartition StartedAt: 2025-11-18 02:06:57 -0500 (Tue, 18 Nov 2025) EndedAt: 2025-11-18 02:12:40 -0500 (Tue, 18 Nov 2025) EllapsedTime: 343.2 seconds RetCode: 0 Status: OK PackageFile: variancePartition_1.40.0.tar.gz PackageFileSize: 4.985 MiB