Package: updateObject Version: 1.14.0 Command: /home/biocbuild/R/R/bin/R CMD INSTALL updateObject StartedAt: 2025-11-13 21:19:10 -0000 (Thu, 13 Nov 2025) EndedAt: 2025-11-13 21:19:17 -0000 (Thu, 13 Nov 2025) EllapsedTime: 7.0 seconds RetCode: 0 Status: OK