Package: updateObject Version: 1.14.0 Command: /home/biocbuild/R/R/bin/R CMD build --keep-empty-dirs --no-resave-data updateObject StartedAt: 2025-11-14 06:12:09 -0000 (Fri, 14 Nov 2025) EndedAt: 2025-11-14 06:12:42 -0000 (Fri, 14 Nov 2025) EllapsedTime: 33.0 seconds RetCode: 0 Status: OK PackageFile: updateObject_1.14.0.tar.gz PackageFileSize: 1.313 MiB