Package: updateObject Version: 1.13.0 Command: /Library/Frameworks/R.framework/Resources/bin/R CMD INSTALL updateObject StartedAt: 2025-10-26 15:07:16 -0400 (Sun, 26 Oct 2025) EndedAt: 2025-10-26 15:07:18 -0400 (Sun, 26 Oct 2025) EllapsedTime: 1.7 seconds RetCode: 0 Status: OK