Package: updateObject Version: 1.14.0 Maintainer: Hervé Pagès MaintainerEmail: hpages.on.github at gmail.com git_url: https://git.bioconductor.org/packages/updateObject git_branch: RELEASE_3_22 git_last_commit: f166607 git_last_commit_date: 2025-10-29 14:33:22 -0400 (Wed, 29 Oct 2025)