Package: unifiedWMWqPCR Version: 1.45.0 Command: /home/biocbuild/bbs-3.22-bioc/R/bin/R CMD build --keep-empty-dirs --no-resave-data --md5 unifiedWMWqPCR StartedAt: 2025-10-24 20:47:10 -0400 (Fri, 24 Oct 2025) EndedAt: 2025-10-24 20:47:19 -0400 (Fri, 24 Oct 2025) EllapsedTime: 9.0 seconds RetCode: 0 Status: OK PackageFile: unifiedWMWqPCR_1.45.0.tar.gz PackageFileSize: 503.6 KiB