Package: unifiedWMWqPCR Version: 1.46.0 Command: /Library/Frameworks/R.framework/Resources/bin/R CMD build --keep-empty-dirs --no-resave-data unifiedWMWqPCR StartedAt: 2025-11-10 18:05:49 -0500 (Mon, 10 Nov 2025) EndedAt: 2025-11-10 18:05:55 -0500 (Mon, 10 Nov 2025) EllapsedTime: 6.1 seconds RetCode: 0 Status: OK PackageFile: unifiedWMWqPCR_1.46.0.tar.gz PackageFileSize: 501.7 KiB