Package: unifiedWMWqPCR Version: 1.46.0 Command: rm -rf unifiedWMWqPCR.buildbin-libdir && mkdir unifiedWMWqPCR.buildbin-libdir && /Users/biocbuild/BBS/utils/build-universal.sh unifiedWMWqPCR_1.46.0.tar.gz /Library/Frameworks/R.framework/Resources/bin/R unifiedWMWqPCR.buildbin-libdir StartedAt: 2025-11-10 23:40:27 -0500 (Mon, 10 Nov 2025) EndedAt: 2025-11-10 23:40:29 -0500 (Mon, 10 Nov 2025) EllapsedTime: 2.0 seconds RetCode: 0 Status: OK PackageFile: unifiedWMWqPCR_1.46.0.tgz PackageFileSize: 734.6 KiB