Package: uncoverappLib Version: 1.20.0 Command: /Library/Frameworks/R.framework/Resources/bin/R CMD INSTALL uncoverappLib StartedAt: 2025-11-10 15:31:49 -0500 (Mon, 10 Nov 2025) EndedAt: 2025-11-10 15:32:13 -0500 (Mon, 10 Nov 2025) EllapsedTime: 24.5 seconds RetCode: 0 Status: OK