Package: tweeDEseq Version: 1.56.0 Command: /home/biocbuild/bbs-3.22-bioc/R/bin/R CMD INSTALL tweeDEseq StartedAt: 2025-11-20 15:55:36 -0500 (Thu, 20 Nov 2025) EndedAt: 2025-11-20 15:55:48 -0500 (Thu, 20 Nov 2025) EllapsedTime: 12.0 seconds RetCode: 0 Status: OK