Package: tripr Version: 1.16.0 Command: /home/biocbuild/bbs-3.22-bioc/R/bin/R CMD INSTALL tripr StartedAt: 2025-11-06 15:09:21 -0500 (Thu, 06 Nov 2025) EndedAt: 2025-11-06 15:10:04 -0500 (Thu, 06 Nov 2025) EllapsedTime: 42.7 seconds RetCode: 0 Status: OK