Package: tripr Version: 1.16.0 Command: /home/biocbuild/bbs-3.22-bioc/R/bin/R CMD build --keep-empty-dirs --no-resave-data --md5 tripr StartedAt: 2025-11-06 20:36:39 -0500 (Thu, 06 Nov 2025) EndedAt: 2025-11-06 20:37:28 -0500 (Thu, 06 Nov 2025) EllapsedTime: 49.0 seconds RetCode: 0 Status: OK PackageFile: tripr_1.16.0.tar.gz PackageFileSize: 2.941 MiB