Package: treekoR Version: 1.17.0 Command: rm -rf treekoR.buildbin-libdir && mkdir treekoR.buildbin-libdir && /Users/biocbuild/BBS/utils/build-universal.sh treekoR_1.17.0.tar.gz /Library/Frameworks/R.framework/Resources/bin/R treekoR.buildbin-libdir StartedAt: 2025-10-26 22:50:49 -0400 (Sun, 26 Oct 2025) EndedAt: 2025-10-26 22:51:03 -0400 (Sun, 26 Oct 2025) EllapsedTime: 14.3 seconds RetCode: 0 Status: OK PackageFile: treekoR_1.17.0.tgz PackageFileSize: 1.781 MiB