Package: treekoR Version: 1.18.0 Maintainer: Adam Chan MaintainerEmail: adam.s.chan at sydney.edu.au git_url: https://git.bioconductor.org/packages/treekoR git_branch: RELEASE_3_22 git_last_commit: 83e186e git_last_commit_date: 2025-10-29 11:08:22 -0400 (Wed, 29 Oct 2025)