Package: treeio Version: 1.34.0 Command: /home/biocbuild/R/R/bin/R CMD INSTALL treeio StartedAt: 2025-11-20 21:55:34 -0000 (Thu, 20 Nov 2025) EndedAt: 2025-11-20 21:55:47 -0000 (Thu, 20 Nov 2025) EllapsedTime: 13.1 seconds RetCode: 0 Status: OK