Package: treeio Version: 1.34.0 Command: /home/biocbuild/R/R/bin/R CMD build --keep-empty-dirs --no-resave-data treeio StartedAt: 2025-11-21 06:36:54 -0000 (Fri, 21 Nov 2025) EndedAt: 2025-11-21 06:37:07 -0000 (Fri, 21 Nov 2025) EllapsedTime: 13.0 seconds RetCode: 0 Status: OK PackageFile: treeio_1.34.0.tar.gz PackageFileSize: 679.6 KiB