Package: treeio Version: 1.34.0 Command: /Library/Frameworks/R.framework/Resources/bin/R CMD INSTALL treeio StartedAt: 2025-11-17 17:03:27 -0500 (Mon, 17 Nov 2025) EndedAt: 2025-11-17 17:03:51 -0500 (Mon, 17 Nov 2025) EllapsedTime: 23.6 seconds RetCode: 0 Status: OK