Package: treeio Version: 1.34.0 Command: rm -rf treeio.buildbin-libdir && mkdir treeio.buildbin-libdir && /Users/biocbuild/BBS/utils/build-universal.sh treeio_1.34.0.tar.gz /Library/Frameworks/R.framework/Resources/bin/R treeio.buildbin-libdir StartedAt: 2025-11-18 18:46:44 -0500 (Tue, 18 Nov 2025) EndedAt: 2025-11-18 18:47:03 -0500 (Tue, 18 Nov 2025) EllapsedTime: 19.2 seconds RetCode: 0 Status: OK PackageFile: treeio_1.34.0.tgz PackageFileSize: 913.9 KiB