Package: treeio Version: 1.33.0 Command: rm -rf treeio.buildbin-libdir && mkdir treeio.buildbin-libdir && /Users/biocbuild/BBS/utils/build-universal.sh treeio_1.33.0.tar.gz /Library/Frameworks/R.framework/Resources/bin/R treeio.buildbin-libdir StartedAt: 2025-10-26 22:50:48 -0400 (Sun, 26 Oct 2025) EndedAt: 2025-10-26 22:50:51 -0400 (Sun, 26 Oct 2025) EllapsedTime: 3.1 seconds RetCode: 0 Status: OK PackageFile: treeio_1.33.0.tgz PackageFileSize: 914.1 KiB