Package: treeio Version: 1.34.0 Command: /Library/Frameworks/R.framework/Resources/bin/R CMD build --keep-empty-dirs --no-resave-data treeio StartedAt: 2025-11-18 01:58:50 -0500 (Tue, 18 Nov 2025) EndedAt: 2025-11-18 01:58:56 -0500 (Tue, 18 Nov 2025) EllapsedTime: 6.1 seconds RetCode: 0 Status: OK PackageFile: treeio_1.34.0.tar.gz PackageFileSize: 678.8 KiB