Package: treeio Version: 1.34.0 Maintainer: Guangchuang Yu MaintainerEmail: guangchuangyu at gmail.com git_url: https://git.bioconductor.org/packages/treeio git_branch: RELEASE_3_22 git_last_commit: 68b1d91 git_last_commit_date: 2025-10-29 10:36:08 -0400 (Wed, 29 Oct 2025)