Package: treeclimbR Version: 1.5.1 Command: /Library/Frameworks/R.framework/Resources/bin/R CMD INSTALL treeclimbR StartedAt: 2025-10-24 15:37:51 -0400 (Fri, 24 Oct 2025) EndedAt: 2025-10-24 15:38:42 -0400 (Fri, 24 Oct 2025) EllapsedTime: 51.0 seconds RetCode: 0 Status: OK