Package: treeclimbR Version: 1.5.1 Command: rm -rf treeclimbR.buildbin-libdir && mkdir treeclimbR.buildbin-libdir && /Users/biocbuild/BBS/utils/build-universal.sh treeclimbR_1.5.1.tar.gz /Library/Frameworks/R.framework/Resources/bin/R treeclimbR.buildbin-libdir StartedAt: 2025-10-25 02:09:23 -0400 (Sat, 25 Oct 2025) EndedAt: 2025-10-25 02:10:17 -0400 (Sat, 25 Oct 2025) EllapsedTime: 54.6 seconds RetCode: 0 Status: OK PackageFile: treeclimbR_1.5.1.tgz PackageFileSize: 892.4 KiB