Package: treeclimbR Version: 1.5.1 Command: /Library/Frameworks/R.framework/Resources/bin/R CMD INSTALL treeclimbR StartedAt: 2025-10-26 15:16:53 -0400 (Sun, 26 Oct 2025) EndedAt: 2025-10-26 15:17:09 -0400 (Sun, 26 Oct 2025) EllapsedTime: 16.0 seconds RetCode: 0 Status: OK