Package: treeclimbR Version: 1.5.1 Command: rm -rf treeclimbR.buildbin-libdir && mkdir treeclimbR.buildbin-libdir && /Users/biocbuild/BBS/utils/build-universal.sh treeclimbR_1.5.1.tar.gz /Library/Frameworks/R.framework/Resources/bin/R treeclimbR.buildbin-libdir StartedAt: 2025-10-26 22:50:46 -0400 (Sun, 26 Oct 2025) EndedAt: 2025-10-26 22:51:02 -0400 (Sun, 26 Oct 2025) EllapsedTime: 16.3 seconds RetCode: 0 Status: OK PackageFile: treeclimbR_1.5.1.tgz PackageFileSize: 893.6 KiB