Package: treeclimbR Version: 1.6.0 Maintainer: Charlotte Soneson MaintainerEmail: charlottesoneson at gmail.com git_url: https://git.bioconductor.org/packages/treeclimbR git_branch: RELEASE_3_22 git_last_commit: 45ad92c git_last_commit_date: 2025-10-29 11:28:31 -0400 (Wed, 29 Oct 2025)