Package: traseR Version: 1.40.0 Command: /home/biocbuild/bbs-3.22-bioc/R/bin/R CMD INSTALL traseR StartedAt: 2025-11-25 16:01:22 -0500 (Tue, 25 Nov 2025) EndedAt: 2025-11-25 16:01:52 -0500 (Tue, 25 Nov 2025) EllapsedTime: 29.6 seconds RetCode: 0 Status: OK