Package: transmogR Version: 1.6.0 Command: /home/biocbuild/bbs-3.22-bioc/R/bin/R CMD INSTALL transmogR StartedAt: 2025-11-17 17:51:26 -0500 (Mon, 17 Nov 2025) EndedAt: 2025-11-17 17:52:07 -0500 (Mon, 17 Nov 2025) EllapsedTime: 40.7 seconds RetCode: 0 Status: OK