Package: transformGamPoi Version: 1.15.0 Command: /home/biocbuild/bbs-3.22-bioc/R/bin/R CMD INSTALL transformGamPoi StartedAt: 2025-10-20 15:35:09 -0400 (Mon, 20 Oct 2025) EndedAt: 2025-10-20 15:35:19 -0400 (Mon, 20 Oct 2025) EllapsedTime: 10.5 seconds RetCode: 0 Status: OK