Package: transformGamPoi Version: 1.15.0 Command: /home/biocbuild/bbs-3.22-bioc/R/bin/R CMD build --keep-empty-dirs --no-resave-data --md5 transformGamPoi StartedAt: 2025-10-20 20:29:57 -0400 (Mon, 20 Oct 2025) EndedAt: 2025-10-20 20:30:39 -0400 (Mon, 20 Oct 2025) EllapsedTime: 42.0 seconds RetCode: 0 Status: OK PackageFile: transformGamPoi_1.15.0.tar.gz PackageFileSize: 787.2 KiB