Package: transcriptogramer Version: 1.32.0 Command: /Library/Frameworks/R.framework/Resources/bin/R CMD INSTALL transcriptogramer StartedAt: 2025-11-03 15:20:30 -0500 (Mon, 03 Nov 2025) EndedAt: 2025-11-03 15:20:40 -0500 (Mon, 03 Nov 2025) EllapsedTime: 10.4 seconds RetCode: 0 Status: OK