Package: transcriptogramer Version: 1.32.0 Command: /Library/Frameworks/R.framework/Resources/bin/R CMD build --keep-empty-dirs --no-resave-data transcriptogramer StartedAt: 2025-11-03 18:01:54 -0500 (Mon, 03 Nov 2025) EndedAt: 2025-11-03 18:07:28 -0500 (Mon, 03 Nov 2025) EllapsedTime: 333.8 seconds RetCode: 0 Status: OK PackageFile: transcriptogramer_1.32.0.tar.gz PackageFileSize: 3.63 MiB