Package: transcriptogramer Version: 1.32.0 Command: rm -rf transcriptogramer.buildbin-libdir && mkdir transcriptogramer.buildbin-libdir && /Users/biocbuild/BBS/utils/build-universal.sh transcriptogramer_1.32.0.tar.gz /Library/Frameworks/R.framework/Resources/bin/R transcriptogramer.buildbin-libdir StartedAt: 2025-11-18 16:34:10 -0500 (Tue, 18 Nov 2025) EndedAt: 2025-11-18 16:34:24 -0500 (Tue, 18 Nov 2025) EllapsedTime: 14.2 seconds RetCode: 0 Status: OK PackageFile: transcriptogramer_1.32.0.tgz PackageFileSize: 5.454 MiB