Package: transcriptR Version: 1.37.0 Command: /home/biocbuild/bbs-3.22-bioc/R/bin/R CMD INSTALL transcriptR StartedAt: 2025-10-28 15:53:21 -0400 (Tue, 28 Oct 2025) EndedAt: 2025-10-28 15:54:08 -0400 (Tue, 28 Oct 2025) EllapsedTime: 47.0 seconds RetCode: 0 Status: OK