Package: transcriptR Version: 1.38.0 Command: rm -rf transcriptR.buildbin-libdir && mkdir transcriptR.buildbin-libdir && /Users/biocbuild/BBS/utils/build-universal.sh transcriptR_1.38.0.tar.gz /Library/Frameworks/R.framework/Resources/bin/R transcriptR.buildbin-libdir StartedAt: 2025-11-04 02:09:16 -0500 (Tue, 04 Nov 2025) EndedAt: 2025-11-04 02:10:25 -0500 (Tue, 04 Nov 2025) EllapsedTime: 68.4 seconds RetCode: 0 Status: OK PackageFile: transcriptR_1.38.0.tgz PackageFileSize: 3.191 MiB