Package: transcriptR Version: 1.37.0 Command: /Library/Frameworks/R.framework/Resources/bin/R CMD INSTALL transcriptR StartedAt: 2025-10-28 15:28:38 -0400 (Tue, 28 Oct 2025) EndedAt: 2025-10-28 15:28:58 -0400 (Tue, 28 Oct 2025) EllapsedTime: 19.9 seconds RetCode: 0 Status: OK