Package: trackViewer Version: 1.46.0 Command: /Library/Frameworks/R.framework/Resources/bin/R CMD build --keep-empty-dirs --no-resave-data trackViewer StartedAt: 2025-11-10 18:02:10 -0500 (Mon, 10 Nov 2025) EndedAt: 2025-11-10 18:06:22 -0500 (Mon, 10 Nov 2025) EllapsedTime: 251.8 seconds RetCode: 0 Status: OK PackageFile: trackViewer_1.46.0.tar.gz PackageFileSize: 12.87 MiB